BEGIN:VCALENDAR
VERSION:2.0
PRODID:-//LM siuntos - ECPv6.15.18//NONSGML v1.0//EN
CALSCALE:GREGORIAN
METHOD:PUBLISH
X-WR-CALNAME:LM siuntos
X-ORIGINAL-URL:https://siuntosiairija.lt
X-WR-CALDESC:Events for LM siuntos
REFRESH-INTERVAL;VALUE=DURATION:PT1H
X-Robots-Tag:noindex
X-PUBLISHED-TTL:PT1H
BEGIN:VTIMEZONE
TZID:UTC
BEGIN:STANDARD
TZOFFSETFROM:+0000
TZOFFSETTO:+0000
TZNAME:UTC
DTSTART:20250101T000000
END:STANDARD
END:VTIMEZONE
BEGIN:VEVENT
DTSTART;TZID=UTC:20260420T080000
DTEND;TZID=UTC:20260420T170000
DTSTAMP:20260420T202830
CREATED:20260323T085044Z
LAST-MODIFIED:20260323T085045Z
UID:3062-1776672000-1776704400@siuntosiairija.lt
SUMMARY:Išvykstame iš Airijos
DESCRIPTION:
URL:https://siuntosiairija.lt/grafikas/isvykstame-is-airijos-2/
END:VEVENT
END:VCALENDAR